BEGIN:VCALENDAR
VERSION:2.0
PRODID:-//AStA der Ruhr-Universität Bochum - ECPv6.15.20//NONSGML v1.0//EN
CALSCALE:GREGORIAN
METHOD:PUBLISH
X-ORIGINAL-URL:https://asta-bochum.de
X-WR-CALDESC:Veranstaltungen für AStA der Ruhr-Universität Bochum
REFRESH-INTERVAL;VALUE=DURATION:PT1H
X-Robots-Tag:noindex
X-PUBLISHED-TTL:PT1H
BEGIN:VTIMEZONE
TZID:Europe/Berlin
BEGIN:DAYLIGHT
TZOFFSETFROM:+0100
TZOFFSETTO:+0200
TZNAME:CEST
DTSTART:20250330T010000
END:DAYLIGHT
BEGIN:STANDARD
TZOFFSETFROM:+0200
TZOFFSETTO:+0100
TZNAME:CET
DTSTART:20251026T010000
END:STANDARD
BEGIN:DAYLIGHT
TZOFFSETFROM:+0100
TZOFFSETTO:+0200
TZNAME:CEST
DTSTART:20260329T010000
END:DAYLIGHT
BEGIN:STANDARD
TZOFFSETFROM:+0200
TZOFFSETTO:+0100
TZNAME:CET
DTSTART:20261025T010000
END:STANDARD
BEGIN:DAYLIGHT
TZOFFSETFROM:+0100
TZOFFSETTO:+0200
TZNAME:CEST
DTSTART:20270328T010000
END:DAYLIGHT
BEGIN:STANDARD
TZOFFSETFROM:+0200
TZOFFSETTO:+0100
TZNAME:CET
DTSTART:20271031T010000
END:STANDARD
END:VTIMEZONE
BEGIN:VEVENT
DTSTART;TZID=Europe/Berlin:20260427T160000
DTEND;TZID=Europe/Berlin:20260427T210000
DTSTAMP:20260422T121344
CREATED:20260419T155040Z
LAST-MODIFIED:20260420T170302Z
UID:10002960-1777305600-1777323600@asta-bochum.de
SUMMARY:Secrets of Strixhaven Draft Event
DESCRIPTION:English Version Below! \nBist du bereit die Geheimniss von Strixhaven zu Entdecken? \nWann: Montag\, 27. April 2026\, 16:00–21:00 UhrWo: KulturCafé\, Ruhr-Universität BochumFormat: Booster Draft (mit Ticket)Teilnehmendenzahl: 30 Plätze im Draft \nTickets hier! \nKommt am 27. April 2026 ins KulturCafé der RUB und Erkundet mit uns die Geheimnisse von Strixhaven. Für welche der fünf Fakultäten wirst du dich entscheiden? Neben alt bekannten Charakteren lauert auch eine neue Gefahr in Arcavios die alles ramponierenden Urzeitwesen. \nGespielt wird im Booster Draft Format:Jeder Teilnehmerin erhält drei Boosterpacks. Ihr zieht jeweils eine Karte aus dem Pack und gebt den Rest im Uhrzeigersinn (bzw. beim 2. Pack gegen den Uhrzeigersinn) weiter – bis alle Karten verteilt sind. Ihr habt 60 Minuten Zeit\, ein Deck zu draften und zu bauen. Die Karten dürft ihr behalten. \nIm Anschluss spielt ihr vier „Best-of-Three“-Matches à 50 Minuten. \n Preise: Deckboxen für die besten Spieler*innen + Booster & Goodies für alle! Egal ob Draft-Profi oder Neuling – seid dabei und erlebt MTG pur! \n__________________________________________________________ \nAre you ready to discover the secrets of Strixhaven? \nWhen: Monday\, April 27\, 2026\, 4:00–9:00 p.m.\nWhere: KulturCafé\, Ruhr University Bochum\nFormat: Booster Draft (tickets required)\nCapacity: 30 spots in the draft \nGet tickets here! \nCome to the KulturCafé at RUB on April 27\, 2026\, and join us in exploring the secrets of Strixhaven. Which of the five colleges will you choose? Alongside familiar characters\, a new danger lurks in Arcavios: the Archaic beasts that wreak havoc. \nThe event will be played in Booster Draft format:\nEach participant receives three booster packs. You each draw one card from the pack and pass the rest clockwise (or counterclockwise for the second pack) until all cards are distributed. You have 60 minutes to draft and build a deck. You get to keep the cards. \nAfterward\, you’ll play four “best-of-three” matches\, each lasting 50 minutes. \nPrizes: Deck boxes for the top players + booster packs & goodies for everyone!\nWhether you’re a draft pro or a newbie—join us and experience pure MTG!
URL:https://asta-bochum.de/termin/secrets-of-strixhaven-draft-event/
LOCATION:KulturCafé
CATEGORIES:KulturCafé,MTG
ATTACH;FMTTYPE=image/jpeg:https://asta-bochum.de/wp-content/uploads/2026/04/WhatsApp-Image-2026-04-19-at-17.51.23.jpeg
END:VEVENT
END:VCALENDAR